BEGIN:VCALENDAR
VERSION:2.0
PRODID:-//Contratero//ES
CALSCALE:GREGORIAN
METHOD:PUBLISH
BEGIN:VEVENT
UID:T-SU 20.03/042024 10.4@contratero.es
DTSTAMP:20260421T022316Z
DTSTART:20251105T235959
DTEND:20251106T005959
SUMMARY:Cierre: Suscripción de licencias Microsoft
DESCRIPTION:Suscripción de licencias Microsoft\\n\\nOrganismo: Gerencia de Transportes Interurbanos de Tenerife S.A.U.\\n\\nVer en Contratero: https://contratero.es/contracts/T-SU 20.03/042024 10.4
URL:https://contratero.es/contracts/T-SU 20.03/042024 10.4
STATUS:CONFIRMED
BEGIN:VALARM
TRIGGER:-P1D
ACTION:DISPLAY
DESCRIPTION:Recordatorio: Suscripción de licencias Micro
END:VALARM
END:VEVENT
END:VCALENDAR